BEGIN:VCALENDAR
VERSION:2.0
PRODID:-//RIGHTHERE//CALENDARIZE IT V3.2//EN
BEGIN:VTIMEZONE
TZID:Europe/Rome
BEGIN:STANDARD
DTSTART:20251026T010000
TZOFFSETFROM:+0200
TZOFFSETTO:+0100
TZNAME:CET
END:STANDARD
BEGIN:DAYLIGHT
DTSTART:20260329T010000
TZOFFSETFROM:+0100
TZOFFSETTO:+0200
TZNAME:CEST
END:DAYLIGHT
BEGIN:STANDARD
DTSTART:20261025T010000
TZOFFSETFROM:+0200
TZOFFSETTO:+0100
TZNAME:CET
END:STANDARD
END:VTIMEZONE
BEGIN:VEVENT
UID:26530-events@www.limprenditore.com
DTSTART;TZID=Europe/Rome:20210301T150000
DTEND;TZID=Europe/Rome:20210301T163000
DTSTAMP;TZID=Europe/Rome:20210222T134420
SUMMARY:La nuova definizione di Default bancario e l’importanza di monito
 rare la Centrale Rischi
DESCRIPTION:Secondo appuntamento con il webinar che affronta sul tema dell'
 indebitamento nei confronti del settore bancario\, che assume rilevanza al
 la luce delle nuove regole sul default\, definitivamente in vigore dal 1°
 gennaio di quest’anno
URL:https://www.limprenditore.com/events/la-nuova-definizione-di-default-ba
 ncario-e-limportanza-di-monitorare-la-centrale-rischi-2/
ORGANIZER;CN=Bancopass:
LOCATION:Webinar - online
END:VEVENT
END:VCALENDAR