BEGIN:VCALENDAR
VERSION:2.0
PRODID:-//RIGHTHERE//CALENDARIZE IT V3.2//EN
BEGIN:VTIMEZONE
TZID:Europe/Rome
BEGIN:STANDARD
DTSTART:20251026T010000
TZOFFSETFROM:+0200
TZOFFSETTO:+0100
TZNAME:CET
END:STANDARD
BEGIN:DAYLIGHT
DTSTART:20260329T010000
TZOFFSETFROM:+0100
TZOFFSETTO:+0200
TZNAME:CEST
END:DAYLIGHT
BEGIN:STANDARD
DTSTART:20261025T010000
TZOFFSETFROM:+0200
TZOFFSETTO:+0100
TZNAME:CET
END:STANDARD
END:VTIMEZONE
BEGIN:VEVENT
UID:26345-events@www.limprenditore.com
DTSTART;TZID=Europe/Rome:20210215T150000
DTEND;TZID=Europe/Rome:20210215T163000
DTSTAMP;TZID=Europe/Rome:20210202T182037
SUMMARY:La nuova definizione di Default bancario e lâ€™importanza di monito
 rare la Centrale Rischi
DESCRIPTION:La crisi pandemica ha generato nelle imprese un elevato fabbiso
 gno di liquiditÃ . Principale strumento di risposta Ã¨ l'indebitamento nei
 confronti del settore bancario\, che assume rilevanza alla luce delle nuov
 e regole sul default\, definitivamente in vigore dal 1Â° gennaio di questâ
 €™anno\, di cui si discuterÃ  nel corso del webinar.
URL:https://www.limprenditore.com/events/la-nuova-definizione-di-default-ba
 ncario-e-limportanza-di-monitorare-la-centrale-rischi/
ORGANIZER;CN=Bancopass:
LOCATION:Webinar - online
END:VEVENT
END:VCALENDAR