BEGIN:VCALENDAR
VERSION:2.0
PRODID:-//RIGHTHERE//CALENDARIZE IT V3.2//EN
BEGIN:VTIMEZONE
TZID:Europe/Rome
BEGIN:STANDARD
DTSTART:20251026T010000
TZOFFSETFROM:+0200
TZOFFSETTO:+0100
TZNAME:CET
END:STANDARD
BEGIN:DAYLIGHT
DTSTART:20260329T010000
TZOFFSETFROM:+0100
TZOFFSETTO:+0200
TZNAME:CEST
END:DAYLIGHT
BEGIN:STANDARD
DTSTART:20261025T010000
TZOFFSETFROM:+0200
TZOFFSETTO:+0100
TZNAME:CET
END:STANDARD
END:VTIMEZONE
BEGIN:VEVENT
UID:26105-events@www.limprenditore.com
DTSTART;TZID=Europe/Rome:20210128T150000
DTEND;TZID=Europe/Rome:20210128T170000
DTSTAMP;TZID=Europe/Rome:20210119T172616
SUMMARY:PIANIFICAZIONE E CONTROLLO
DESCRIPTION:Secondo appuntamento del ciclo di incontri Seminari L'I per app
 rofondire il ruolo del controllo di gestione e degli strumenti a disposizi
 one delle imprese per restare competitive e programmare la ripresa\, anche
 alla luce di quanto introdotto dal nuovo codice della crisi d'impresa
URL:https://www.limprenditore.com/events/pianificazione-e-controllo-2/
ORGANIZER;CN=L'Imprenditore:
LOCATION:Webinar - online
END:VEVENT
END:VCALENDAR