BEGIN:VCALENDAR
VERSION:2.0
PRODID:-//RIGHTHERE//CALENDARIZE IT V3.2//EN
BEGIN:VTIMEZONE
TZID:Europe/Rome
BEGIN:STANDARD
DTSTART:20251026T010000
TZOFFSETFROM:+0200
TZOFFSETTO:+0100
TZNAME:CET
END:STANDARD
BEGIN:DAYLIGHT
DTSTART:20260329T010000
TZOFFSETFROM:+0100
TZOFFSETTO:+0200
TZNAME:CEST
END:DAYLIGHT
BEGIN:STANDARD
DTSTART:20261025T010000
TZOFFSETFROM:+0200
TZOFFSETTO:+0100
TZNAME:CET
END:STANDARD
END:VTIMEZONE
BEGIN:VEVENT
UID:22419-events@www.limprenditore.com
DTSTART;TZID=Europe/Rome:20200123T170000
DTEND;TZID=Europe/Rome:20200123T190000
DTSTAMP;TZID=Europe/Rome:20200116T105131
SUMMARY:Imprese e territori resilienti
URL:https://www.limprenditore.com/events/imprese-e-territori-resilienti-3/
ORGANIZER;CN=Confindustria Mantova:MAILTO:varini@assind.mn.it
LOCATION:Via Portazzolo\, 9 Mantova
END:VEVENT
END:VCALENDAR