BEGIN:VCALENDAR
VERSION:2.0
PRODID:-//RIGHTHERE//CALENDARIZE IT V3.2//EN
BEGIN:VTIMEZONE
TZID:Europe/Rome
BEGIN:STANDARD
DTSTART:20251026T010000
TZOFFSETFROM:+0200
TZOFFSETTO:+0100
TZNAME:CET
END:STANDARD
BEGIN:DAYLIGHT
DTSTART:20260329T010000
TZOFFSETFROM:+0100
TZOFFSETTO:+0200
TZNAME:CEST
END:DAYLIGHT
BEGIN:STANDARD
DTSTART:20261025T010000
TZOFFSETFROM:+0200
TZOFFSETTO:+0100
TZNAME:CET
END:STANDARD
END:VTIMEZONE
BEGIN:VEVENT
UID:22099-events@www.limprenditore.com
DTSTART;TZID=Europe/Rome:20191120T164500
DTEND;TZID=Europe/Rome:20191120T190000
DTSTAMP;TZID=Europe/Rome:20191118T102127
SUMMARY:Piccola Industria Avanguardia di crescita
URL:https://www.limprenditore.com/events/piccola-industria-avanguardia-di-c
 rescita-4/
ORGANIZER;CN=Audi:
LOCATION:Scavolini Via Risara\, 60/70  -  Montelabbate 61025 PU
END:VEVENT
END:VCALENDAR