BEGIN:VCALENDAR
VERSION:2.0
PRODID:-//RIGHTHERE//CALENDARIZE IT V3.2//EN
BEGIN:VTIMEZONE
TZID:Europe/Rome
BEGIN:STANDARD
DTSTART:20251026T010000
TZOFFSETFROM:+0200
TZOFFSETTO:+0100
TZNAME:CET
END:STANDARD
BEGIN:DAYLIGHT
DTSTART:20260329T010000
TZOFFSETFROM:+0100
TZOFFSETTO:+0200
TZNAME:CEST
END:DAYLIGHT
BEGIN:STANDARD
DTSTART:20261025T010000
TZOFFSETFROM:+0200
TZOFFSETTO:+0100
TZNAME:CET
END:STANDARD
END:VTIMEZONE
BEGIN:VEVENT
UID:21772-events@www.limprenditore.com
DTSTART;TZID=Europe/Rome:20191018T143000
DTEND;TZID=Europe/Rome:20191018T190000
DTSTAMP;TZID=Europe/Rome:20191015T125912
SUMMARY:Comunità resilienti\, imprese al centro
URL:https://www.limprenditore.com/events/comunita-resilienti-imprese-al-cen
 tro/
ORGANIZER;CN=Confindustria Emilia Romagna:MAILTO:info@confind.emr.it
LOCATION:Largo Piero Calamandrei\, 43121 Parma PR
END:VEVENT
END:VCALENDAR