BEGIN:VCALENDAR
VERSION:2.0
PRODID:-//RIGHTHERE//CALENDARIZE IT V3.2//EN
BEGIN:VTIMEZONE
TZID:Europe/Rome
BEGIN:STANDARD
DTSTART:20251026T010000
TZOFFSETFROM:+0200
TZOFFSETTO:+0100
TZNAME:CET
END:STANDARD
BEGIN:DAYLIGHT
DTSTART:20260329T010000
TZOFFSETFROM:+0100
TZOFFSETTO:+0200
TZNAME:CEST
END:DAYLIGHT
BEGIN:STANDARD
DTSTART:20261025T010000
TZOFFSETFROM:+0200
TZOFFSETTO:+0100
TZNAME:CET
END:STANDARD
END:VTIMEZONE
BEGIN:VEVENT
UID:21712-events@www.limprenditore.com
DTSTART;TZID=Europe/Rome:20191023T170000
DTEND;TZID=Europe/Rome:20191023T190000
DTSTAMP;TZID=Europe/Rome:20191007T121501
SUMMARY:E-commerce: conoscere per crescere
URL:https://www.limprenditore.com/events/e-commerce-conoscere-per-crescere-
 2/
ORGANIZER;CN=Confindustria Firenze:MAILTO:connextfirenze@confindustriafiren
 ze.it
LOCATION:Viale Filippo Strozzi\, 1\, 50129 Firenze FI
END:VEVENT
END:VCALENDAR