BEGIN:VCALENDAR
VERSION:2.0
PRODID:-//RIGHTHERE//CALENDARIZE IT V3.2//EN
BEGIN:VTIMEZONE
TZID:Europe/Rome
BEGIN:STANDARD
DTSTART:20251026T010000
TZOFFSETFROM:+0200
TZOFFSETTO:+0100
TZNAME:CET
END:STANDARD
BEGIN:DAYLIGHT
DTSTART:20260329T010000
TZOFFSETFROM:+0100
TZOFFSETTO:+0200
TZNAME:CEST
END:DAYLIGHT
BEGIN:STANDARD
DTSTART:20261025T010000
TZOFFSETFROM:+0200
TZOFFSETTO:+0100
TZNAME:CET
END:STANDARD
END:VTIMEZONE
BEGIN:VEVENT
UID:20569-events@www.limprenditore.com
DTSTART;TZID=Europe/Rome:20190614T160000
DTEND;TZID=Europe/Rome:20190614T180000
DTSTAMP;TZID=Europe/Rome:20190605T110556
SUMMARY:Imprese\, città e territori resilienti
URL:https://www.limprenditore.com/events/imprese-citta-e-territori-resilien
 ti/
ORGANIZER;CN=Piccola Industria Confindustria:MAILTO:piccolaindustria@confin
 dustria.it
LOCATION:Piazzetta del Podestà\, 60044 Fabriano AN
END:VEVENT
END:VCALENDAR