BEGIN:VCALENDAR
VERSION:2.0
PRODID:-//RIGHTHERE//CALENDARIZE IT V3.2//EN
BEGIN:VTIMEZONE
TZID:Europe/Rome
BEGIN:STANDARD
DTSTART:20251026T010000
TZOFFSETFROM:+0200
TZOFFSETTO:+0100
TZNAME:CET
END:STANDARD
BEGIN:DAYLIGHT
DTSTART:20260329T010000
TZOFFSETFROM:+0100
TZOFFSETTO:+0200
TZNAME:CEST
END:DAYLIGHT
BEGIN:STANDARD
DTSTART:20261025T010000
TZOFFSETFROM:+0200
TZOFFSETTO:+0100
TZNAME:CET
END:STANDARD
END:VTIMEZONE
BEGIN:VEVENT
UID:20265-events@www.limprenditore.com
DTSTART;TZID=Europe/Rome:20190529T143000
DTEND;TZID=Europe/Rome:20190529T180000
DTSTAMP;TZID=Europe/Rome:20190520T125932
SUMMARY:Imprese e territori resilienti
DESCRIPTION:Prevenire\, prepararsi e rispondere all’emergenza causata dai
 fenomeni naturali che investono territori ed imprese del nostro Paese è o
 ggi una necessità certamente attuale. Obiettivo: la protezione e il benes
 sere dell’intera collettività.
URL:https://www.limprenditore.com/events/imprese-e-territori-resilienti/
ORGANIZER;CN=Confindustria Abruzzo:MAILTO:info@confindustria.abruzzo.it
LOCATION:Via Campo di Pile\, snc\, Nucleo Industriale Pile\, 67100 L'Aquila
 AQ
END:VEVENT
END:VCALENDAR