BEGIN:VCALENDAR
VERSION:2.0
PRODID:-//RIGHTHERE//CALENDARIZE IT V3.2//EN
BEGIN:VTIMEZONE
TZID:Europe/Rome
BEGIN:STANDARD
DTSTART:20251026T010000
TZOFFSETFROM:+0200
TZOFFSETTO:+0100
TZNAME:CET
END:STANDARD
BEGIN:DAYLIGHT
DTSTART:20260329T010000
TZOFFSETFROM:+0100
TZOFFSETTO:+0200
TZNAME:CEST
END:DAYLIGHT
BEGIN:STANDARD
DTSTART:20261025T010000
TZOFFSETFROM:+0200
TZOFFSETTO:+0100
TZNAME:CET
END:STANDARD
END:VTIMEZONE
BEGIN:VEVENT
UID:17707-events@www.limprenditore.com
DTSTART;TZID=Europe/Rome:20190307T170000
DTEND;TZID=Europe/Rome:20190307T200000
DTSTAMP;TZID=Europe/Rome:20190301T125011
SUMMARY:Cambiare passo
URL:https://www.limprenditore.com/events/cambiare-passo/
ORGANIZER;CN=Confindustria Mantova:MAILTO:varini@assind.mn.it
LOCATION:Via Portazzolo\, 9 Mantova
END:VEVENT
END:VCALENDAR