BEGIN:VCALENDAR
VERSION:2.0
PRODID:-//RIGHTHERE//CALENDARIZE IT V3.2//EN
BEGIN:VTIMEZONE
TZID:Europe/Rome
BEGIN:STANDARD
DTSTART:20251026T010000
TZOFFSETFROM:+0200
TZOFFSETTO:+0100
TZNAME:CET
END:STANDARD
BEGIN:DAYLIGHT
DTSTART:20260329T010000
TZOFFSETFROM:+0100
TZOFFSETTO:+0200
TZNAME:CEST
END:DAYLIGHT
BEGIN:STANDARD
DTSTART:20261025T010000
TZOFFSETFROM:+0200
TZOFFSETTO:+0100
TZNAME:CET
END:STANDARD
END:VTIMEZONE
BEGIN:VEVENT
UID:17700-events@www.limprenditore.com
DTSTART;TZID=Europe/Rome:20180705T143000
DTEND;TZID=Europe/Rome:20180705T190000
DTSTAMP;TZID=Europe/Rome:20180630T124007
SUMMARY:Lean Management – Impresa 4.0
URL:https://www.limprenditore.com/events/lean-management-11/
ORGANIZER;CN=Unione Industriale Torino:MAILTO:piccola@ui.torino.it
LOCATION:Via Manfredo Fanti\, 17 Torino (TO)
END:VEVENT
END:VCALENDAR