BEGIN:VCALENDAR
VERSION:2.0
PRODID:-//RIGHTHERE//CALENDARIZE IT V3.2//EN
BEGIN:VTIMEZONE
TZID:Europe/Rome
BEGIN:STANDARD
DTSTART:20251026T010000
TZOFFSETFROM:+0200
TZOFFSETTO:+0100
TZNAME:CET
END:STANDARD
BEGIN:DAYLIGHT
DTSTART:20260329T010000
TZOFFSETFROM:+0100
TZOFFSETTO:+0200
TZNAME:CEST
END:DAYLIGHT
BEGIN:STANDARD
DTSTART:20261025T010000
TZOFFSETFROM:+0200
TZOFFSETTO:+0100
TZNAME:CET
END:STANDARD
END:VTIMEZONE
BEGIN:VEVENT
UID:17696-events@www.limprenditore.com
DTSTART;TZID=Europe/Rome:20180927T150000
DTEND;TZID=Europe/Rome:20180927T190000
DTSTAMP;TZID=Europe/Rome:20180920T123825
SUMMARY:Crescere nei mercati globali – I fattori di successo
URL:https://www.limprenditore.com/events/crescere-nei-mercati-globali-2/
ORGANIZER;CN=Associazione Industriali di Novara:MAILTO:piccolaindustria@ain
 .novara.it
LOCATION:Corso Cavallotti Felice\, 25
END:VEVENT
END:VCALENDAR