BEGIN:VCALENDAR
VERSION:2.0
PRODID:-//RIGHTHERE//CALENDARIZE IT V3.2//EN
BEGIN:VTIMEZONE
TZID:Europe/Rome
BEGIN:STANDARD
DTSTART:20251026T010000
TZOFFSETFROM:+0200
TZOFFSETTO:+0100
TZNAME:CET
END:STANDARD
BEGIN:DAYLIGHT
DTSTART:20260329T010000
TZOFFSETFROM:+0100
TZOFFSETTO:+0200
TZNAME:CEST
END:DAYLIGHT
BEGIN:STANDARD
DTSTART:20261025T010000
TZOFFSETFROM:+0200
TZOFFSETTO:+0100
TZNAME:CET
END:STANDARD
END:VTIMEZONE
BEGIN:VEVENT
UID:17693-events@www.limprenditore.com
DTSTART;TZID=Europe/Rome:20181023T143000
DTEND;TZID=Europe/Rome:20181023T190000
DTSTAMP;TZID=Europe/Rome:20181015T123616
SUMMARY:Efficienza Energetica – Le nuove sfide al 2030
URL:https://www.limprenditore.com/events/efficienza-energetica/
ORGANIZER;CN=Unione Parmense degli Industriali:MAILTO:eventi@upi.pr.it
LOCATION:Strada al Ponte Caprazucca\, 6/A
END:VEVENT
END:VCALENDAR