BEGIN:VCALENDAR
VERSION:2.0
PRODID:-//RIGHTHERE//CALENDARIZE IT V3.2//EN
BEGIN:VTIMEZONE
TZID:Europe/Rome
BEGIN:STANDARD
DTSTART:20251026T010000
TZOFFSETFROM:+0200
TZOFFSETTO:+0100
TZNAME:CET
END:STANDARD
BEGIN:DAYLIGHT
DTSTART:20260329T010000
TZOFFSETFROM:+0100
TZOFFSETTO:+0200
TZNAME:CEST
END:DAYLIGHT
BEGIN:STANDARD
DTSTART:20261025T010000
TZOFFSETFROM:+0200
TZOFFSETTO:+0100
TZNAME:CET
END:STANDARD
END:VTIMEZONE
BEGIN:VEVENT
UID:15780-events@www.limprenditore.com
DTSTART;TZID=Europe/Rome:20151008T000000
DTEND;TZID=Europe/Rome:20151008T000000
DTSTAMP;TZID=Europe/Rome:20150925T160213
SUMMARY:Dogane ed internazionalizzazione
URL:https://www.limprenditore.com/events/dogane-ed-internazionalizzazione-1
 4/
LOCATION:Via Camozzi\, 64
END:VEVENT
END:VCALENDAR