BEGIN:VCALENDAR
VERSION:2.0
PRODID:-//RIGHTHERE//CALENDARIZE IT V3.2//EN
BEGIN:VTIMEZONE
TZID:Europe/Rome
BEGIN:STANDARD
DTSTART:20251026T010000
TZOFFSETFROM:+0200
TZOFFSETTO:+0100
TZNAME:CET
END:STANDARD
BEGIN:DAYLIGHT
DTSTART:20260329T010000
TZOFFSETFROM:+0100
TZOFFSETTO:+0200
TZNAME:CEST
END:DAYLIGHT
BEGIN:STANDARD
DTSTART:20261025T010000
TZOFFSETFROM:+0200
TZOFFSETTO:+0100
TZNAME:CET
END:STANDARD
END:VTIMEZONE
BEGIN:VEVENT
UID:15760-events@www.limprenditore.com
DTSTART;TZID=Europe/Rome:20060915T000000
DTEND;TZID=Europe/Rome:20060915T000000
DTSTAMP;TZID=Europe/Rome:20160609T173647
SUMMARY:LEAN THINKING TOUR … a spasso per le nostre aziende
RDATE;TZID=Europe/Rome:20160107
URL:https://www.limprenditore.com/events/lean-thinking-tour-spasso-le-nostr
 e-aziende/
LOCATION:Confindustria Taranto\, Camera di Commercio di Taranto\, Azienda A
 gricola Vetrère
END:VEVENT
END:VCALENDAR