BEGIN:VCALENDAR
VERSION:2.0
PRODID:-//RIGHTHERE//CALENDARIZE IT V3.2//EN
BEGIN:VTIMEZONE
TZID:Europe/Rome
BEGIN:STANDARD
DTSTART:20251026T010000
TZOFFSETFROM:+0200
TZOFFSETTO:+0100
TZNAME:CET
END:STANDARD
BEGIN:DAYLIGHT
DTSTART:20260329T010000
TZOFFSETFROM:+0100
TZOFFSETTO:+0200
TZNAME:CEST
END:DAYLIGHT
BEGIN:STANDARD
DTSTART:20261025T010000
TZOFFSETFROM:+0200
TZOFFSETTO:+0100
TZNAME:CET
END:STANDARD
END:VTIMEZONE
BEGIN:VEVENT
UID:15740-events@www.limprenditore.com
DTSTART;TZID=Europe/Rome:20170228T000000
DTEND;TZID=Europe/Rome:20170228T000000
DTSTAMP;TZID=Europe/Rome:20170228T134337
SUMMARY:L’arte di competere sui mercati globali
URL:https://www.limprenditore.com/events/larte-competere-sui-mercati-global
 i-3/
LOCATION:P.zza Cittadella\, 12
END:VEVENT
END:VCALENDAR