BEGIN:VCALENDAR
VERSION:2.0
PRODID:-//RIGHTHERE//CALENDARIZE IT V3.2//EN
BEGIN:VTIMEZONE
TZID:Europe/Rome
BEGIN:STANDARD
DTSTART:20251026T010000
TZOFFSETFROM:+0200
TZOFFSETTO:+0100
TZNAME:CET
END:STANDARD
BEGIN:DAYLIGHT
DTSTART:20260329T010000
TZOFFSETFROM:+0100
TZOFFSETTO:+0200
TZNAME:CEST
END:DAYLIGHT
BEGIN:STANDARD
DTSTART:20261025T010000
TZOFFSETFROM:+0200
TZOFFSETTO:+0100
TZNAME:CET
END:STANDARD
END:VTIMEZONE
BEGIN:VEVENT
UID:15738-events@www.limprenditore.com
DTSTART;TZID=Europe/Rome:20170323T000000
DTEND;TZID=Europe/Rome:20170323T000000
DTSTAMP;TZID=Europe/Rome:20170316T121215
SUMMARY:Management Consulting per le PMI
URL:https://www.limprenditore.com/events/management-consulting-le-pmi-2/
LOCATION:Via S. Vincenzo\, 2 - 16121 Genova
END:VEVENT
END:VCALENDAR