BEGIN:VCALENDAR
VERSION:2.0
PRODID:-//RIGHTHERE//CALENDARIZE IT V3.2//EN
BEGIN:VTIMEZONE
TZID:Europe/Rome
BEGIN:STANDARD
DTSTART:20251026T010000
TZOFFSETFROM:+0200
TZOFFSETTO:+0100
TZNAME:CET
END:STANDARD
BEGIN:DAYLIGHT
DTSTART:20260329T010000
TZOFFSETFROM:+0100
TZOFFSETTO:+0200
TZNAME:CEST
END:DAYLIGHT
BEGIN:STANDARD
DTSTART:20261025T010000
TZOFFSETFROM:+0200
TZOFFSETTO:+0100
TZNAME:CET
END:STANDARD
END:VTIMEZONE
BEGIN:VEVENT
UID:15732-events@www.limprenditore.com
DTSTART;TZID=Europe/Rome:20170517T140000
DTEND;TZID=Europe/Rome:20170517T190000
DTSTAMP;TZID=Europe/Rome:20170515T123018
SUMMARY:Lean Management – Crescita 4.0
URL:https://www.limprenditore.com/events/lean-management-9/
LOCATION:Via Salinella\, 9/11
END:VEVENT
END:VCALENDAR